BEGIN:VCALENDAR
VERSION:2.0
PRODID:-//Squarespace Inc/Squarespace 6//v6//EN
BEGIN:VEVENT
UID:5d8ffdd0cb7830046d8f9b2b@squarespace.com
DTSTAMP:20191203T081345Z
DTSTART:20191012T234500Z
DTEND:20191013T030000Z
SUMMARY:2019 AGM &amp\; Book Launch
GEO:-27.477343;152.995229
LOCATION:McIlwraith Croquet Club\, Dixon Street\, Auchenflower\, Australia
END:VEVENT
END:VCALENDAR
