BEGIN:VCALENDAR
VERSION:2.0
PRODID:-//Squarespace Inc/Squarespace 6//v6//EN
BEGIN:VEVENT
UID:5f633b850aa8804666fc815b@squarespace.com
DTSTAMP:20200920T061648Z
DTSTART:20201014T084500Z
DTEND:20201014T110000Z
SUMMARY:2020 Derek Fielding Memorial Lecture
GEO:-27.464652;153.027934
LOCATION:All Saints Convention Centre\, 330 Ann Street\, Brisbane
END:VEVENT
END:VCALENDAR
