BEGIN:VCALENDAR
VERSION:2.0
PRODID:-//Squarespace Inc/Squarespace 6//v6//EN
BEGIN:VEVENT
UID:5d8f1df466acef5da6edaf18@squarespace.com
DTSTAMP:20191203T081405Z
DTSTART:20190918T080000Z
DTEND:20190918T110000Z
SUMMARY:2019 Derek Fielding Memorial Lecture
END:VEVENT
END:VCALENDAR
