BEGIN:VCALENDAR
VERSION:2.0
PRODID:-//Squarespace Inc/Squarespace 6//v6//EN
BEGIN:VEVENT
UID:5e6306e77f773607e2571e8a@squarespace.com
DTSTAMP:20200307T023537Z
DTSTART:20200310T073000Z
DTEND:20200310T090000Z
SUMMARY:International Women's Day - 'Themis'
GEO:-27.46751;153.020601
LOCATION:Level 12 Conference Centre\, QEII Courts of Law\, 415 George Stree
 t\, Brisbane City\, QLD\, 4000\, Australia
END:VEVENT
END:VCALENDAR
