BEGIN:VCALENDAR
VERSION:2.0
PRODID:-//Squarespace Inc/Squarespace 6//v6//EN
BEGIN:VEVENT
UID:5dd8bc9c81fab20e4f025a0d@squarespace.com
DTSTAMP:20191203T081218Z
DTSTART:20191211T090000Z
DTEND:20191211T100000Z
SUMMARY:Justice for Julian
GEO:-27.482311;153.012205
LOCATION:Kurilpa Hall\, 174 Boundary Street\, West End Qld
END:VEVENT
END:VCALENDAR
